BEGIN:VCALENDAR
VERSION:2.0
PRODID:-//Squarespace Inc/Squarespace 6//v6//EN
BEGIN:VEVENT
UID:5e2564826570d54754ec1d51@squarespace.com
DTSTAMP:20200218T205331Z
DTSTART:20200304T210000Z
DTEND:20200305T030000Z
SUMMARY:What's Love Got To Do With It?? Sexuality Workshop - Hamilton
GEO:-37.784202;175.287312
LOCATION:The Link Community Centre\, 6 Te Aroha Street\, Hamilton\, Waikato
 \, 3216\, New Zealand
END:VEVENT
END:VCALENDAR
