BEGIN:VCALENDAR
VERSION:2.0
PRODID:-//Squarespace Inc/Squarespace 6//v6//EN
BEGIN:VEVENT
UID:5e25667c6fef6f177e6831d1@squarespace.com
DTSTAMP:20200320T002358Z
DTSTART:20200330T210000Z
DTEND:20200331T030000Z
SUMMARY:What's Love Got To Do With It?? Sexuality Workshop - Dunedin CANCEL
 LED due to Covid 19
GEO:-45.869768;170.50414
LOCATION:Pact Group\, 80 Filleul Street\, Dunedin\, OTA\, 9016\, New Zealan
 d
END:VEVENT
END:VCALENDAR
