BEGIN:VCALENDAR
VERSION:2.0
PRODID:-//Squarespace Inc/Squarespace 6//v6//EN
BEGIN:VEVENT
UID:5e2004d1245f7758f46e0adc@squarespace.com
DTSTAMP:20200218T205211Z
DTSTART:20200224T210000Z
DTEND:20200225T030000Z
SUMMARY:What's Love Got To Do With It?? Sexuality Workshop - Wellington Cen
 tral
GEO:-41.305036;174.778834
LOCATION:Blind Low Vision\, 121 Adelaide Road\, Wellington\, Wellington\, 6
 021\, New Zealand
END:VEVENT
END:VCALENDAR
