BEGIN:VCALENDAR
VERSION:2.0
PRODID:-//Squarespace Inc/Squarespace 6//v6//EN
BEGIN:VEVENT
UID:5e256101f068c869fe65ab84@squarespace.com
DTSTAMP:20200215T010545Z
DTSTART:20200223T210000Z
DTEND:20200224T030000Z
SUMMARY:What's Love Got To Do With It?? Sexuality Workshop - Kapiti Coast
GEO:-40.913968;175.002611
LOCATION:Te Newhanga Kapiti Community Centre\, 15 Ngahina Street\, Parapara
 umu\, Wellington\, 5032\, New Zealand
END:VEVENT
END:VCALENDAR
